BEGIN:VCALENDAR
VERSION:2.0
PRODID:-//Melburna Esperanto Asocio - ECPv6.15.20//NONSGML v1.0//EN
CALSCALE:GREGORIAN
METHOD:PUBLISH
X-WR-CALNAME:Melburna Esperanto Asocio
X-ORIGINAL-URL:https://www.esperanto.com.au
X-WR-CALDESC:Events for Melburna Esperanto Asocio
REFRESH-INTERVAL;VALUE=DURATION:PT1H
X-Robots-Tag:noindex
X-PUBLISHED-TTL:PT1H
BEGIN:VTIMEZONE
TZID:Australia/Melbourne
BEGIN:STANDARD
TZOFFSETFROM:+1100
TZOFFSETTO:+1000
TZNAME:AEST
DTSTART:20250405T160000
END:STANDARD
BEGIN:DAYLIGHT
TZOFFSETFROM:+1000
TZOFFSETTO:+1100
TZNAME:AEDT
DTSTART:20251004T160000
END:DAYLIGHT
BEGIN:STANDARD
TZOFFSETFROM:+1100
TZOFFSETTO:+1000
TZNAME:AEST
DTSTART:20260404T160000
END:STANDARD
BEGIN:DAYLIGHT
TZOFFSETFROM:+1000
TZOFFSETTO:+1100
TZNAME:AEDT
DTSTART:20261003T160000
END:DAYLIGHT
BEGIN:STANDARD
TZOFFSETFROM:+1100
TZOFFSETTO:+1000
TZNAME:AEST
DTSTART:20270403T160000
END:STANDARD
BEGIN:DAYLIGHT
TZOFFSETFROM:+1000
TZOFFSETTO:+1100
TZNAME:AEDT
DTSTART:20271002T160000
END:DAYLIGHT
END:VTIMEZONE
BEGIN:VEVENT
DTSTART;TZID=Australia/Melbourne:20260316T180000
DTEND;TZID=Australia/Melbourne:20260316T200000
DTSTAMP:20260425T061606
CREATED:20260110T020254Z
LAST-MODIFIED:20260110T020254Z
UID:7157-1773684000-1773691200@www.esperanto.com.au
SUMMARY:Monday Esperanto Meetup - Beginners welcome
DESCRIPTION:Come and learn about the International Language\, Esperanto\, from experienced speakers who have travelled the world\, attended international conferences\, and made friends with people from many different countries. Esperanto is simple to learn\, regular\, and a very powerful tool for international communication. \nOur Monday meetups are tailored to whoever shows up on the night\, so feel free to drop in\, no matter what your level (curious/interested/beginner/conversational/expert). We can offer one-on-one lessons or a range of group activities\, conversation\, and games. \nWe meet at Enderby Esperanto Centre\, suite 304\, 343 Little Collins Street. \nYour first visit is free\, and meetups are free for members\, however if neither of these apply we ask for $5 to help cover venue costs. \nWe usually have around 8-15 people\, and not everyone bothers to RSVP\, so don’t be discouraged if the RSVP figure looks low 🙂 \nIf you want to join our Discord server for Esperantists in Victoria\, please visit https://discord.gg/6cgKjQhkWa
URL:https://www.esperanto.com.au/event/monday-esperanto-meetup-beginners-welcome-7/
LOCATION:Enderby Esperanto Centre\, Suite 304\, 343 Little Collins Street\, Melbourne\, Vic\, 3000\, Australia
ATTACH;FMTTYPE=image/jpeg:https://www.esperanto.com.au/wp-content/uploads/2026/01/Attachment2-e1768009218415.jpg
ORGANIZER;CN="Melbourne Esperanto Association":MAILTO:joanne@melburno.org.au
END:VEVENT
BEGIN:VEVENT
DTSTART;TZID=Australia/Melbourne:20260311T190000
DTEND;TZID=Australia/Melbourne:20260311T200000
DTSTAMP:20260425T061606
CREATED:20260207T082952Z
LAST-MODIFIED:20260207T082952Z
UID:7354-1773255600-1773259200@www.esperanto.com.au
SUMMARY:Midweek Esperanto Workout for Beginners (Virtual)
DESCRIPTION:Stop studying and start doing! This weekly “gym session” focuses on beginner drills and speaking practice for your Esperanto journey. If you’re currently working through Duolingo\, Lernu\, Kurso de Esperanto\, a textbook or any other form of structured learning\, come flex your muscles with us. We focus on building fluency through repetition\, pronunciation practice\, and drills. \nThis is not a formal lesson\, but I am happy to answer any questions you have. If you haven’t studied Esperanto at all this is probably not for you\, but if you have at least a week under your belt then come along to ensure you get the most out of your studies. \nPlease RSVP below to receive the Zoom link for this virtual meetup (please note: this is done by a human not automatically\, and may take up to a couple of days).
URL:https://www.esperanto.com.au/event/midweek-esperanto-workout-for-beginners-virtual-4/
LOCATION:Zoom
ATTACH;FMTTYPE=image/jpeg:https://www.esperanto.com.au/wp-content/uploads/2026/02/Krokodilo.jpg
ORGANIZER;CN="Melbourne Esperanto Association":MAILTO:joanne@melburno.org.au
END:VEVENT
BEGIN:VEVENT
DTSTART;TZID=Australia/Melbourne:20260309T180000
DTEND;TZID=Australia/Melbourne:20260309T200000
DTSTAMP:20260425T061606
CREATED:20260110T020052Z
LAST-MODIFIED:20260110T020052Z
UID:7150-1773079200-1773086400@www.esperanto.com.au
SUMMARY:Monday Esperanto Meetup - Beginners welcome
DESCRIPTION:Come and learn about the International Language\, Esperanto\, from experienced speakers who have travelled the world\, attended international conferences\, and made friends with people from many different countries. Esperanto is simple to learn\, regular\, and a very powerful tool for international communication. \nOur Monday meetups are tailored to whoever shows up on the night\, so feel free to drop in\, no matter what your level (curious/interested/beginner/conversational/expert). We can offer one-on-one lessons or a range of group activities\, conversation\, and games. \nWe meet at Enderby Esperanto Centre\, suite 304\, 343 Little Collins Street. \nYour first visit is free\, and meetups are free for members\, however if neither of these apply we ask for $5 to help cover venue costs. \nWe usually have around 8-15 people\, and not everyone bothers to RSVP\, so don’t be discouraged if the RSVP figure looks low 🙂 \nIf you want to join our Discord server for Esperantists in Victoria\, please visit https://discord.gg/6cgKjQhkWa
URL:https://www.esperanto.com.au/event/monday-esperanto-meetup-beginners-welcome-6/
LOCATION:Enderby Esperanto Centre\, Suite 304\, 343 Little Collins Street\, Melbourne\, Vic\, 3000\, Australia
ATTACH;FMTTYPE=image/jpeg:https://www.esperanto.com.au/wp-content/uploads/2026/01/Attachment2-e1768009218415.jpg
ORGANIZER;CN="Melbourne Esperanto Association":MAILTO:joanne@melburno.org.au
END:VEVENT
BEGIN:VEVENT
DTSTART;TZID=Australia/Melbourne:20260304T190000
DTEND;TZID=Australia/Melbourne:20260304T200000
DTSTAMP:20260425T061606
CREATED:20260207T082806Z
LAST-MODIFIED:20260207T082806Z
UID:7351-1772650800-1772654400@www.esperanto.com.au
SUMMARY:Midweek Esperanto Workout for Beginners (Virtual)
DESCRIPTION:Stop studying and start doing! This weekly “gym session” focuses on beginner drills and speaking practice for your Esperanto journey. If you’re currently working through Duolingo\, Lernu\, Kurso de Esperanto\, a textbook or any other form of structured learning\, come flex your muscles with us. We focus on building fluency through repetition\, pronunciation practice\, and drills. \nThis is not a formal lesson\, but I am happy to answer any questions you have. If you haven’t studied Esperanto at all this is probably not for you\, but if you have at least a week under your belt then come along to ensure you get the most out of your studies. \nPlease RSVP below to receive the Zoom link for this virtual meetup (please note: this is done by a human not automatically\, and may take up to a couple of days).
URL:https://www.esperanto.com.au/event/midweek-esperanto-workout-for-beginners-virtual-3/
LOCATION:Zoom
ATTACH;FMTTYPE=image/jpeg:https://www.esperanto.com.au/wp-content/uploads/2026/02/Krokodilo.jpg
ORGANIZER;CN="Melbourne Esperanto Association":MAILTO:joanne@melburno.org.au
END:VEVENT
BEGIN:VEVENT
DTSTART;TZID=Australia/Melbourne:20260302T180000
DTEND;TZID=Australia/Melbourne:20260302T200000
DTSTAMP:20260425T061606
CREATED:20260110T015830Z
LAST-MODIFIED:20260110T015830Z
UID:7147-1772474400-1772481600@www.esperanto.com.au
SUMMARY:Monday Esperanto Meetup - Beginners welcome
DESCRIPTION:Come and learn about the International Language\, Esperanto\, from experienced speakers who have travelled the world\, attended international conferences\, and made friends with people from many different countries. Esperanto is simple to learn\, regular\, and a very powerful tool for international communication. \nOur Monday meetups are tailored to whoever shows up on the night\, so feel free to drop in\, no matter what your level (curious/interested/beginner/conversational/expert). We can offer one-on-one lessons or a range of group activities\, conversation\, and games. \nWe meet at Enderby Esperanto Centre\, suite 304\, 343 Little Collins Street. \nYour first visit is free\, and meetups are free for members\, however if neither of these apply we ask for $5 to help cover venue costs. \nWe usually have around 8-15 people\, and not everyone bothers to RSVP\, so don’t be discouraged if the RSVP figure looks low 🙂 \nIf you want to join our Discord server for Esperantists in Victoria\, please visit https://discord.gg/6cgKjQhkWa
URL:https://www.esperanto.com.au/event/monday-esperanto-meetup-beginners-welcome-5/
LOCATION:Enderby Esperanto Centre\, Suite 304\, 343 Little Collins Street\, Melbourne\, Vic\, 3000\, Australia
ATTACH;FMTTYPE=image/jpeg:https://www.esperanto.com.au/wp-content/uploads/2026/01/Attachment2-e1768009218415.jpg
ORGANIZER;CN="Melbourne Esperanto Association":MAILTO:joanne@melburno.org.au
END:VEVENT
BEGIN:VEVENT
DTSTART;TZID=Australia/Melbourne:20260225T190000
DTEND;TZID=Australia/Melbourne:20260225T200000
DTSTAMP:20260425T061606
CREATED:20260207T080215Z
LAST-MODIFIED:20260207T080215Z
UID:7348-1772046000-1772049600@www.esperanto.com.au
SUMMARY:Midweek Esperanto Workout for Beginners (Virtual)
DESCRIPTION:Stop studying and start doing! This weekly “gym session” focuses on beginner drills and speaking practice for your Esperanto journey. If you’re currently working through Duolingo\, Lernu\, Kurso de Esperanto\, a textbook or any other form of structured learning\, come flex your muscles with us. We focus on building fluency through repetition\, pronunciation practice\, and drills. \nThis is not a formal lesson\, but I am happy to answer any questions you have. If you haven’t studied Esperanto at all this is probably not for you\, but if you have at least a week under your belt then come along to ensure you get the most out of your studies. \nPlease RSVP below to receive the Zoom link for this virtual meetup (please note: this is done by a human not automatically\, and may take up to a couple of days).
URL:https://www.esperanto.com.au/event/midweek-esperanto-workout-for-beginners-virtual-2/
LOCATION:Zoom
ATTACH;FMTTYPE=image/jpeg:https://www.esperanto.com.au/wp-content/uploads/2026/02/Krokodilo.jpg
END:VEVENT
BEGIN:VEVENT
DTSTART;TZID=Australia/Melbourne:20260223T180000
DTEND;TZID=Australia/Melbourne:20260223T200000
DTSTAMP:20260425T061606
CREATED:20260110T015456Z
LAST-MODIFIED:20260110T015456Z
UID:7141-1771869600-1771876800@www.esperanto.com.au
SUMMARY:Monday Esperanto Meetup - Beginners welcome
DESCRIPTION:Come and learn about the International Language\, Esperanto\, from experienced speakers who have travelled the world\, attended international conferences\, and made friends with people from many different countries. Esperanto is simple to learn\, regular\, and a very powerful tool for international communication. \nOur Monday meetups are tailored to whoever shows up on the night\, so feel free to drop in\, no matter what your level (curious/interested/beginner/conversational/expert). We can offer one-on-one lessons or a range of group activities\, conversation\, and games. \nWe meet at Enderby Esperanto Centre\, suite 304\, 343 Little Collins Street. \nYour first visit is free\, and meetups are free for members\, however if neither of these apply we ask for $5 to help cover venue costs. \nWe usually have around 8-15 people\, and not everyone bothers to RSVP\, so don’t be discouraged if the RSVP figure looks low 🙂 \nIf you want to join our Discord server for Esperantists in Victoria\, please visit https://discord.gg/6cgKjQhkWa
URL:https://www.esperanto.com.au/event/monday-esperanto-meetup-beginners-welcome-4/
LOCATION:Enderby Esperanto Centre\, Suite 304\, 343 Little Collins Street\, Melbourne\, Vic\, 3000\, Australia
ATTACH;FMTTYPE=image/jpeg:https://www.esperanto.com.au/wp-content/uploads/2026/01/Attachment2-e1768009218415.jpg
ORGANIZER;CN="Melbourne Esperanto Association":MAILTO:joanne@melburno.org.au
END:VEVENT
BEGIN:VEVENT
DTSTART;TZID=Australia/Melbourne:20260218T190000
DTEND;TZID=Australia/Melbourne:20260218T200000
DTSTAMP:20260425T061606
CREATED:20260207T080011Z
LAST-MODIFIED:20260207T080011Z
UID:7345-1771441200-1771444800@www.esperanto.com.au
SUMMARY:Midweek Esperanto Workout for Beginners (Virtual)
DESCRIPTION:Stop studying and start doing! This weekly “gym session” focuses on beginner drills and speaking practice for your Esperanto journey. If you’re currently working through Duolingo\, Lernu\, Kurso de Esperanto\, a textbook or any other form of structured learning\, come flex your muscles with us. We focus on building fluency through repetition\, pronunciation practice\, and drills. \nThis is not a formal lesson\, but I am happy to answer any questions you have. If you haven’t studied Esperanto at all this is probably not for you\, but if you have at least a week under your belt then come along to ensure you get the most out of your studies. \nPlease RSVP below to receive the Zoom link for this virtual meetup (please note: this is done by a human not automatically\, and may take up to a couple of days).
URL:https://www.esperanto.com.au/event/midweek-esperanto-workout-for-beginners-virtual/
LOCATION:Zoom
ATTACH;FMTTYPE=image/jpeg:https://www.esperanto.com.au/wp-content/uploads/2026/02/Krokodilo.jpg
ORGANIZER;CN="Melbourne Esperanto Association":MAILTO:joanne@melburno.org.au
END:VEVENT
BEGIN:VEVENT
DTSTART;TZID=Australia/Melbourne:20260216T180000
DTEND;TZID=Australia/Melbourne:20260216T200000
DTSTAMP:20260425T061606
CREATED:20260110T015301Z
LAST-MODIFIED:20260110T015301Z
UID:7135-1771264800-1771272000@www.esperanto.com.au
SUMMARY:Monday Esperanto Meetup - Beginners welcome
DESCRIPTION:Come and learn about the International Language\, Esperanto\, from experienced speakers who have travelled the world\, attended international conferences\, and made friends with people from many different countries. Esperanto is simple to learn\, regular\, and a very powerful tool for international communication. \nOur Monday meetups are tailored to whoever shows up on the night\, so feel free to drop in\, no matter what your level (curious/interested/beginner/conversational/expert). We can offer one-on-one lessons or a range of group activities\, conversation\, and games. \nWe meet at Enderby Esperanto Centre\, suite 304\, 343 Little Collins Street. \nYour first visit is free\, and meetups are free for members\, however if neither of these apply we ask for $5 to help cover venue costs. \nWe usually have around 8-15 people\, and not everyone bothers to RSVP\, so don’t be discouraged if the RSVP figure looks low 🙂 \nIf you want to join our Discord server for Esperantists in Victoria\, please visit https://discord.gg/6cgKjQhkWa
URL:https://www.esperanto.com.au/event/monday-esperanto-meetup-beginners-welcome-3/
LOCATION:Enderby Esperanto Centre\, Suite 304\, 343 Little Collins Street\, Melbourne\, Vic\, 3000\, Australia
ATTACH;FMTTYPE=image/jpeg:https://www.esperanto.com.au/wp-content/uploads/2026/01/Attachment2-e1768009218415.jpg
ORGANIZER;CN="Melbourne Esperanto Association":MAILTO:joanne@melburno.org.au
END:VEVENT
BEGIN:VEVENT
DTSTART;TZID=Australia/Melbourne:20260211T190000
DTEND;TZID=Australia/Melbourne:20260211T200000
DTSTAMP:20260425T061606
CREATED:20260207T063825Z
LAST-MODIFIED:20260207T075352Z
UID:7331-1770836400-1770840000@www.esperanto.com.au
SUMMARY:Midweek Esperanto Workout for Beginners (Virtual)
DESCRIPTION:Stop studying and start doing! This weekly “gym session” focuses on beginner drills and speaking practice for your Esperanto journey. If you’re currently working through Duolingo\, Lernu\, Kurso de Esperanto\, a textbook or any other form of structured learning\, come flex your muscles with us. We focus on building fluency through repetition\, pronunciation practice\, and drills. \nThis is not a formal lesson\, but I am happy to answer any questions you have. If you haven’t studied Esperanto at all this is probably not for you\, but if you have at least a week under your belt then come along to ensure you get the most out of your studies. \nPlease RSVP below to receive the Zoom link for this virtual meetup (please note: this is done by a human not automatically\, and may take up to a couple of days).
URL:https://www.esperanto.com.au/event/midweek-esperanto-workout-for-beginners/
LOCATION:Zoom
ATTACH;FMTTYPE=image/jpeg:https://www.esperanto.com.au/wp-content/uploads/2026/02/Krokodilo.jpg
ORGANIZER;CN="Melbourne Esperanto Association":MAILTO:joanne@melburno.org.au
END:VEVENT
BEGIN:VEVENT
DTSTART;TZID=Australia/Melbourne:20260209T180000
DTEND;TZID=Australia/Melbourne:20260209T200000
DTSTAMP:20260425T061606
CREATED:20260110T014741Z
LAST-MODIFIED:20260110T014741Z
UID:7128-1770660000-1770667200@www.esperanto.com.au
SUMMARY:Monday Esperanto Meetup - Beginners welcome
DESCRIPTION:Come and learn about the International Language\, Esperanto\, from experienced speakers who have travelled the world\, attended international conferences\, and made friends with people from many different countries. Esperanto is simple to learn\, regular\, and a very powerful tool for international communication. \nOur Monday meetups are tailored to whoever shows up on the night\, so feel free to drop in\, no matter what your level (curious/interested/beginner/conversational/expert). We can offer one-on-one lessons or a range of group activities\, conversation\, and games. \nWe meet at Enderby Esperanto Centre\, suite 304\, 343 Little Collins Street. \nYour first visit is free\, and meetups are free for members\, however if neither of these apply we ask for $5 to help cover venue costs. \nWe usually have around 8-15 people\, and not everyone bothers to RSVP\, so don’t be discouraged if the RSVP figure looks low 🙂 \nIf you want to join our Discord server for Esperantists in Victoria\, please visit https://discord.gg/6cgKjQhkWa
URL:https://www.esperanto.com.au/event/monday-esperanto-meetup-beginners-welcome-2/
LOCATION:Enderby Esperanto Centre\, Suite 304\, 343 Little Collins Street\, Melbourne\, Vic\, 3000\, Australia
ATTACH;FMTTYPE=image/jpeg:https://www.esperanto.com.au/wp-content/uploads/2026/01/Attachment2-e1768009218415.jpg
ORGANIZER;CN="Melbourne Esperanto Association":MAILTO:joanne@melburno.org.au
END:VEVENT
BEGIN:VEVENT
DTSTART;TZID=Australia/Melbourne:20260202T180000
DTEND;TZID=Australia/Melbourne:20260202T200000
DTSTAMP:20260425T061606
CREATED:20260110T013615Z
LAST-MODIFIED:20260110T013900Z
UID:7118-1770055200-1770062400@www.esperanto.com.au
SUMMARY:Monday Esperanto Meetup - Beginners welcome
DESCRIPTION:Come and learn about the International Language\, Esperanto\, from experienced speakers who have travelled the world\, attended international conferences\, and made friends with people from many different countries. Esperanto is simple to learn\, regular\, and a very powerful tool for international communication. \nOur Monday meetups are tailored to whoever shows up on the night\, so feel free to drop in\, no matter what your level (curious/interested/beginner/conversational/expert). We can offer one-on-one lessons or a range of group activities\, conversation\, and games. \nWe meet at Enderby Esperanto Centre\, suite 304\, 343 Little Collins Street. \nYour first visit is free\, and meetups are free for members\, however if neither of these apply we ask for $5 to help cover venue costs. \nWe usually have around 8-15 people\, and not everyone bothers to RSVP\, so don’t be discouraged if the RSVP figure looks low 🙂 \nIf you want to join our Discord server for Esperantists in Victoria\, please visit https://discord.gg/6cgKjQhkWa
URL:https://www.esperanto.com.au/event/monday-esperanto-meetup-beginners-welcome/
LOCATION:Enderby Esperanto Centre\, Suite 304\, 343 Little Collins Street\, Melbourne\, Vic\, 3000\, Australia
ATTACH;FMTTYPE=image/jpeg:https://www.esperanto.com.au/wp-content/uploads/2026/01/Attachment2-e1768009218415.jpg
ORGANIZER;CN="Melbourne Esperanto Association":MAILTO:joanne@melburno.org.au
END:VEVENT
END:VCALENDAR